BEGIN:VCALENDAR
VERSION:2.0
PRODID:-//Virginia Book Arts - ECPv6.15.20//NONSGML v1.0//EN
CALSCALE:GREGORIAN
METHOD:PUBLISH
X-WR-CALNAME:Virginia Book Arts
X-ORIGINAL-URL:https://vabookarts.org
X-WR-CALDESC:Events for Virginia Book Arts
REFRESH-INTERVAL;VALUE=DURATION:PT1H
X-Robots-Tag:noindex
X-PUBLISHED-TTL:PT1H
BEGIN:VTIMEZONE
TZID:America/New_York
BEGIN:DAYLIGHT
TZOFFSETFROM:-0500
TZOFFSETTO:-0400
TZNAME:EDT
DTSTART:20250309T070000
END:DAYLIGHT
BEGIN:STANDARD
TZOFFSETFROM:-0400
TZOFFSETTO:-0500
TZNAME:EST
DTSTART:20251102T060000
END:STANDARD
BEGIN:DAYLIGHT
TZOFFSETFROM:-0500
TZOFFSETTO:-0400
TZNAME:EDT
DTSTART:20260308T070000
END:DAYLIGHT
BEGIN:STANDARD
TZOFFSETFROM:-0400
TZOFFSETTO:-0500
TZNAME:EST
DTSTART:20261101T060000
END:STANDARD
BEGIN:DAYLIGHT
TZOFFSETFROM:-0500
TZOFFSETTO:-0400
TZNAME:EDT
DTSTART:20270314T070000
END:DAYLIGHT
BEGIN:STANDARD
TZOFFSETFROM:-0400
TZOFFSETTO:-0500
TZNAME:EST
DTSTART:20271107T060000
END:STANDARD
END:VTIMEZONE
BEGIN:VEVENT
DTSTART;TZID=America/New_York:20260425T110000
DTEND;TZID=America/New_York:20260425T150000
DTSTAMP:20260425T105719
CREATED:20251225T195529Z
LAST-MODIFIED:20260424T165024Z
UID:10000020-1777114800-1777129200@vabookarts.org
SUMMARY:Leather Journal with Wrap Closure
DESCRIPTION:Elements of making a leather bound journal are similar to making a case bound book yet there are special tools and opportunities with leather…  and the casing is a little more forgiving than board binding!  Participants will sew a multi-signature\, torn edge text block and glue that block into a leather wrap cover.  Several closures styles are possible with this structure as are some decorative elements for the journal. \nOpen to all skill levels. No prior bookbinding experience required. All necessary tools and materials will be provided. Please bring a bag lunch. \nInstructor: Jane Freeman \n 
URL:https://vabookarts.org/current-classes/leather-journal-with-wrap/
LOCATION:Virginia Book Arts\, 600 East Water St.\, Suite F\, Charlottesville\, VA\, 22902\, United States
ATTACH;FMTTYPE=image/jpeg:https://vabookarts.org/wp-content/uploads/2025/12/IMG_9093-scaled-e1766692015491.jpeg
END:VEVENT
BEGIN:VEVENT
DTSTART;TZID=America/New_York:20260509T100000
DTEND;TZID=America/New_York:20260509T113000
DTSTAMP:20260425T105719
CREATED:20260407T142104Z
LAST-MODIFIED:20260420T131228Z
UID:10000027-1778320800-1778326200@vabookarts.org
SUMMARY:Full spectrum letterpress: a quick intro to advanced ink gradients\, split fountains\, & rainbow rolls
DESCRIPTION:Gradient print inking looks amazing\, and is actually pretty simple to do! These quick demos let you watch how to ink VBA’s Vandercook presses to produce rainbow & other gradient inking (aka “split fountains” or “rainbow rolls”) on type\, and on type-high boards to create gradient-inked backgrounds. You’ll leave knowing enough to experiment & practice on your own time at VBA.  \nNote: this is mostly a demo\, not an intensive hands-on. You will not have a chance to ink the presses yourself nor set type yourself during this class\, but you will have the opportunity to pull & keep 1-2 prints from each press (one for gradient type\, one for gradient backgrounds) using the paper\, ink\, & type the instructor has already set up. \nSuggested experience: To get the most from this demo\, we recommend you have at least one past experience printing with a Vandercook\, as understanding the basic of how to ink & use a press are necessary to follow along fully\, and if you want to be able to come to VBA later to practice what you see demo’d without first taking an intro printing class. However\, you’re also welcome to come without Vandercook experience! You’ll still get a chance to pull prints\, but note we won’t have time to answer questions about Vandercook/letterpress basics. \nAccessibility: Please contact VBA if you have questions/concerns about accessibility. While the instructor will project their voice as much as possible\, note they will be masked for accessibility reasons. If you find hearing in spaces with multiple conversations difficult\, you may prefer pursuing this learning through private mentorship. \nInstructor: Amanda Visconti \n  \n  
URL:https://vabookarts.org/current-classes/full-spectrum-letterpress-a-quick-intro-to-advanced-ink-gradients-split-fountains-rainbow-rolls/
LOCATION:Virginia Book Arts\, 600 East Water St.\, Suite F\, Charlottesville\, VA\, 22902\, United States
ATTACH;FMTTYPE=image/jpeg:https://vabookarts.org/wp-content/uploads/2026/04/Visconti-PressRainbowRoll-PinkBlue-e1775327360794.jpg
END:VEVENT
BEGIN:VEVENT
DTSTART;TZID=America/New_York:20260516T110000
DTEND;TZID=America/New_York:20260516T150000
DTSTAMP:20260425T105719
CREATED:20260407T142225Z
LAST-MODIFIED:20260420T155136Z
UID:10000028-1778929200-1778943600@vabookarts.org
SUMMARY:Non-adhesive lace-in binding
DESCRIPTION:This structure is based on a medieval temporary binding structure\, which protected the text block before the full leather binding was added. It uses no glue\, is flexible\, and can accept added signatures at a later time. We will first sew a text block with signatures\, using the French link stitch. We will then prepare the “laces” and the cover. \nAll materials and tools are provided. The class fee includes $10 for material costs. Bring lunch/snack (microwave available; drinks only in bottles or lidded cups).\n\nInstructor: Yolanda Merrill
URL:https://vabookarts.org/current-classes/non-adhesive-lace-in-binding/
LOCATION:Virginia Book Arts\, 600 East Water St.\, Suite F\, Charlottesville\, VA\, 22902\, United States
ATTACH;FMTTYPE=image/jpeg:https://vabookarts.org/wp-content/uploads/2026/04/IMG_1766-scaled.jpeg
END:VEVENT
BEGIN:VEVENT
DTSTART;TZID=America/New_York:20260519T180000
DTEND;TZID=America/New_York:20260519T200000
DTSTAMP:20260425T105719
CREATED:20260404T170804Z
LAST-MODIFIED:20260420T130853Z
UID:10000024-1779213600-1779220800@vabookarts.org
SUMMARY:Welcome to Book Arts
DESCRIPTION:Introduction to Bookbinding & Letterpress Materials\, Tools & Techniques \nThis free\, hands-on class provides an introduction to letterpress basics and bookbinding. Participants will learn about locking up a form on the press bed\, inking the press and “pressure” considerations in order to then pull several prints. Other aspects of letterpress printing will be reviewed\, such as metal and wood type\, how type drawers are organized\, and setting type and spacing material in a composition stick. The bookbinding portion of the class covers paper grain\, folding\, scoring\, and how to use a bone folder\, utility knife and awl. Participants will bring home a simple pamphlet-stitched booklet of their making as well as several single-sheet zine models. All tools and materials will be provided. \nVBA is committed to the accessibility of this historic resource and offers this workshop for free. However\, registration is required. Registration is a commitment to attend the class so that the instructor can prepare the necessary materials. We will send out a reminder before the class date. Please note that we often have a waiting list for this class so it is important to let us know if you need to cancel! \nInstructor: Lyall Harris \nFree\, registration required. \n 
URL:https://vabookarts.org/current-classes/welcome-to-book-arts-5/
LOCATION:Virginia Book Arts\, 600 East Water St.\, Suite F\, Charlottesville\, VA\, 22902\, United States
ATTACH;FMTTYPE=image/jpeg:https://vabookarts.org/wp-content/uploads/2025/10/Lyall_WelcomeToBookArt_Main.jpg
END:VEVENT
BEGIN:VEVENT
DTSTART;TZID=America/New_York:20260523T100000
DTEND;TZID=America/New_York:20260523T140000
DTSTAMP:20260425T105719
CREATED:20260407T142350Z
LAST-MODIFIED:20260420T130709Z
UID:10000029-1779530400-1779544800@vabookarts.org
SUMMARY:Folded Book Structures
DESCRIPTION:In this engaging introductory book art workshop\, we will explore a range of simple single-sheet folded structures and experiment with visual and written content. Participants will develop one structure and create several models as well as gain a deeper understanding of this art form. \nPlease bring: writing paper (any journal or notebook)\, pencil or pen\, additional papers (optional). Please bring a bag lunch/snack. \nProvided: paper for all structures\, bone folders\, glue\, cutting mats\, metal rulers\, small utility knives. The class fee includes $10 for material costs. \n\nInstructor: Lyall Harris \n  \n      
URL:https://vabookarts.org/current-classes/folded-book-structures/
LOCATION:Virginia Book Arts\, 600 East Water St.\, Suite F\, Charlottesville\, VA\, 22902\, United States
ATTACH;FMTTYPE=image/jpeg:https://vabookarts.org/wp-content/uploads/2026/04/IMG_3064-e1775330967395.jpg
END:VEVENT
BEGIN:VEVENT
DTSTART;TZID=America/New_York:20260530T100000
DTEND;TZID=America/New_York:20260530T150000
DTSTAMP:20260425T105719
CREATED:20260407T142623Z
LAST-MODIFIED:20260420T130520Z
UID:10000030-1780135200-1780153200@vabookarts.org
SUMMARY:Introduction to Paper Making
DESCRIPTION:In this introductory class you will learn to make paper that incorporates recycled papers\, flowers and other fibers. You will bring home several sheets made in class\, and we will construct a simple pamphlet book with pre-made paper similar to the ones you will create. You will learn the basics of paper making\, how to make paper pulp and how to use paper making tools. \nWe will gather at Erica’s home to have room to spread out and have easy access to water. Feel free to bring materials from home such as yarn\, egg cartons\, or colored paper. Petals or leaves from your own garden can work for inclusions.  We will explore\, have fun\, and see what turns out. \nPlease note: This class will be held at the instructor’s home in Charlottesville\, not at VBA. Prior to the class\, you will receive an email that contains the address of the workshop. \nPlease bring a bag lunch/snack. Class fee includes $10 materials cost. \nInstructor: Erica Goldfarb \n  \n    
URL:https://vabookarts.org/current-classes/introduction-to-paper-making/
LOCATION:Virginia Book Arts\, 600 East Water St.\, Suite F\, Charlottesville\, VA\, 22902\, United States
ATTACH;FMTTYPE=image/jpeg:https://vabookarts.org/wp-content/uploads/2026/04/woman-s-hand-placing-cover-mold-making-paper-scaled-e1775334100703.jpg
END:VEVENT
BEGIN:VEVENT
DTSTART;TZID=America/New_York:20260606T100000
DTEND;TZID=America/New_York:20260606T160000
DTSTAMP:20260425T105719
CREATED:20260407T131334Z
LAST-MODIFIED:20260420T130327Z
UID:10000025-1780740000-1780761600@vabookarts.org
SUMMARY:Introduction to Typesetting with Moveable Type
DESCRIPTION:Get your hands dirty in the largest collection of moveable type in the mid-Atlantic! Have you always wondered where the phrase “out of sorts” came from? You’ll know\, once you’ve learned a little typesetting using Virginia Book Arts massive collection of lead type. Participants will get an introduction to type and the elements of setting lines of text. We’ll then dive into collaboratively typesetting a short poem to letterpress print on the Vandercook. This workshop will primarily focus on lead type\, typesetting\, locking up\, and proofing (we won’t dive into type history or the nuances of the Vandercook). It will be a brief primer on letterpress printing – you will be able to pull a few prints to take home! \nInstructor: Kristin Adolfson \n 
URL:https://vabookarts.org/current-classes/introduction-to-typesetting-with-moveable-type/
LOCATION:Virginia Book Arts\, 600 East Water St.\, Suite F\, Charlottesville\, VA\, 22902\, United States
ATTACH;FMTTYPE=image/jpeg:https://vabookarts.org/wp-content/uploads/2026/04/VBA-typesetting-class.jpg
END:VEVENT
BEGIN:VEVENT
DTSTART;TZID=America/New_York:20260613T100000
DTEND;TZID=America/New_York:20260613T160000
DTSTAMP:20260425T105719
CREATED:20260407T142737Z
LAST-MODIFIED:20260420T130152Z
UID:10000031-1781344800-1781366400@vabookarts.org
SUMMARY:Hinged Lid Box
DESCRIPTION:Using book board\, decorative paper\, and book cloth\, participants will learn basic box construction and make a 5 x 7 hinged lid box.  This durable and sturdy construction both sits on its base and stands upright on a bookshelf; it is perfect for housing mementos\, jewelry\, ephemera\, and more.  Participants will explore options for decorating the box and learn how to calculate measurements to make custom size boxes. \nAll materials and tools are provided. The class fee includes $20 for material costs. Please bring a bag lunch/snack. \nInstructor: Jane Freeman \n  \n 
URL:https://vabookarts.org/current-classes/hinged-lid-box/
LOCATION:Virginia Book Arts\, 600 East Water St.\, Suite F\, Charlottesville\, VA\, 22902\, United States
ATTACH;FMTTYPE=image/jpeg:https://vabookarts.org/wp-content/uploads/2026/04/IMG_9399-scaled-e1775335561693.jpg
END:VEVENT
BEGIN:VEVENT
DTSTART;TZID=America/New_York:20260620T130000
DTEND;TZID=America/New_York:20260620T170000
DTSTAMP:20260425T105719
CREATED:20260407T142831Z
LAST-MODIFIED:20260420T130035Z
UID:10000034-1781960400-1781974800@vabookarts.org
SUMMARY:Oh\, What a Relief It Is!  Getting Started with Linoleum Carving and Printing
DESCRIPTION:Curious about linocut? In this hands-on\, four-hour beginner workshop\, you’ll experience the full process of relief printmaking—from first impression to finished print—all in one day. \nWe’ll jump right in by printing from a selection of pre-carved blocks\, both by hand and on a press\, so you can immediately see what’s possible. Then you’ll create your own print from start to finish: choose from a range of classic linocut designs\, transfer your image\, carve your block\, ink it\, and pull your own prints—all in a single afternoon. \nYou’ll leave with a small edition of your own handmade prints\, plus a simple materials shopping list to help you continue at home. \nAlong the way\, you’ll explore a curated selection of prints\, books\, and examples from the rich history of relief printing\, including an introduction to some of today’s most exciting linocut artists—both in Virginia and around the world. \nCome get your hands in ink and discover why linocut is such a satisfying\, and therapeutic art practice. All materials provided\, no drawing skills\, and no experience required! \nThe class fee includes $15 for material costs. \nInstructor:  Jenny Mikulski \n   
URL:https://vabookarts.org/current-classes/oh-what-a-relief-it-is-getting-started-with-linoleum-carving-and-printing/
LOCATION:Virginia Book Arts\, 600 East Water St.\, Suite F\, Charlottesville\, VA\, 22902\, United States
ATTACH;FMTTYPE=image/jpeg:https://vabookarts.org/wp-content/uploads/2025/12/Lino-Curl-e1775398304720.jpg
END:VEVENT
BEGIN:VEVENT
DTSTART;TZID=America/New_York:20260627T000000
DTEND;TZID=America/New_York:20260628T235959
DTSTAMP:20260425T105719
CREATED:20260407T131528Z
LAST-MODIFIED:20260420T125916Z
UID:10000033-1782518400-1782691199@vabookarts.org
SUMMARY:Memento Fabric Book
DESCRIPTION:In this two day class we will create a soft fabric book filled with meaning and intention\, inspired by our own collection of fabric pieces. \nWe will create the folios from simple layered and stitched fabric collages. In the process we will explore different hand sewing and embroidery techniques\, and we will discuss different ways to stabilize the pages and the book cover for added structure and rigidity. We will also learn different ways to edge the fabric pages and how to create a variety of closures. \nYou are encouraged to bring small amounts of fabric that has personal meaning\, such as pieces of lace\, vintage napkins\, clothing remnants etc. The course-provided materials include base fabric\, stabilizers\, interfacing\, book binding thread\, and embroidery thread. The workshop fee includes $15 for material costs. \nThe class will run from 10 am to 4 pm both days. Tools and supplies will be provided. Please bring a bag lunch. \nInstructor: Lotta Helleberg \n         \n 
URL:https://vabookarts.org/current-classes/memento-fabric-book/
LOCATION:Virginia Book Arts\, 600 East Water St.\, Suite F\, Charlottesville\, VA\, 22902\, United States
ATTACH;FMTTYPE=image/jpeg:https://vabookarts.org/wp-content/uploads/2026/04/IMG_3966-scaled-e1775396809658.jpg
END:VEVENT
BEGIN:VEVENT
DTSTART;TZID=America/New_York:20260711T100000
DTEND;TZID=America/New_York:20260711T140000
DTSTAMP:20260425T105719
CREATED:20260407T143026Z
LAST-MODIFIED:20260420T125759Z
UID:10000026-1783764000-1783778400@vabookarts.org
SUMMARY:Introduction to Letterpress Printing
DESCRIPTION:How on earth did people print things before the invention of the computer? Learn about “slow technology” in this one-day introduction workshop on letterpress printing. From type to image to paper to ink\, from grippers to rollers to proofing to cleaning\, you’ll not only get an inside view of printing on a Vandercook Universal cylindrical printing press\, but you’ll be able to pull a few prints yourself to take home! \nInstructors:  Kristin Adolfson and Holly Odom
URL:https://vabookarts.org/current-classes/introduction-to-letterpress-printing/
LOCATION:Virginia Book Arts\, 600 East Water St.\, Suite F\, Charlottesville\, VA\, 22902\, United States
ATTACH;FMTTYPE=image/jpeg:https://vabookarts.org/wp-content/uploads/2026/04/VBA-letterpress-class-2-e1775325625563.jpg
END:VEVENT
BEGIN:VEVENT
DTSTART;TZID=America/New_York:20260718T100000
DTEND;TZID=America/New_York:20260718T160000
DTSTAMP:20260425T105719
CREATED:20260407T143057Z
LAST-MODIFIED:20260407T143057Z
UID:10000036-1784368800-1784390400@vabookarts.org
SUMMARY:Encaustic for Book Covers & Content
DESCRIPTION:This workshop will introduce you to the world of encaustic wax and you will learn how to approach encaustic wax application for preservation and surface decoration with book arts in mind.  Encaustics provides an archival and dimensional surface. Be confident after this hands on opportunity about tools\, techniques and materials for engaging at home. \nThe instructor will provide testing materials to keep in a sample journal created in class and supplies to create two small functional prototype books using Pamphlet and Chain Loop bindings and a hardcover Accordion. \nParticipants are invited to bring papers\, cloth\, recycled book covers\, image transfer pieces\, collage\,  threads and ephemera that they want to experiment with. \nAll other materials and supplies are provided. Please bring a bag lunch. \nInstructor:  Catherine Cross Tsintzos \n  \n       \n 
URL:https://vabookarts.org/current-classes/encaustic-for-book-covers-content/
LOCATION:Virginia Book Arts\, 600 East Water St.\, Suite F\, Charlottesville\, VA\, 22902\, United States
ATTACH;FMTTYPE=image/jpeg:https://vabookarts.org/wp-content/uploads/2026/04/IMG_4474-scaled.jpeg
END:VEVENT
BEGIN:VEVENT
DTSTART;TZID=America/New_York:20260808T000000
DTEND;TZID=America/New_York:20260809T235959
DTSTAMP:20260425T105719
CREATED:20260407T143134Z
LAST-MODIFIED:20260420T125624Z
UID:10000035-1786147200-1786319999@vabookarts.org
SUMMARY:Collaborate on A Folio of Poetry Broadsides
DESCRIPTION:In this special two-day workshop\, a small cohort of six collaborators will create a folio of original letterpress poetry broadsides—each pairing a poem with a hand-carved illustration. \nConstraints in design guidelines for scale\, method\, and color gradients will make the collection harmonious while highlighting our individual creativity and poem selections. Before the workshop\, you’ll select your poem and image; we’ll prepare polymer plates for the text and scale your image for transfer. During the workshop\, you’ll carve your illustration\, hand-set your title using lead or wood type\, and print your edition on the Vandercook press. \nEach participant will print at least eight copies of their broadside. At the end of the weekend\, we’ll collate and exchange work so that everyone leaves with a complete folio featuring a full set of the group’s broadsides. \nGet your hands on this historical practice of illustrating\, printing\, and sharing our most beloved poems. \nDay 1 (Saturday): Image transfer\, carving\, and finalizing layout and design\nDay 2 (Sunday): Printing on the Vandercook press\, and folio collation \nAll materials provided\, including a custom made VBA folder for taking home your collection. \nPlease note: This workshop is open to participants who have completed at least one prior class at Virginia Book Arts using the Vandercook press. \nThere will be occasions for meetings at the station before the weekend of the class for planning purposes\, but attending these will not be required to participate. \nThe workshop will run from 10 am to 4 pm each day. The class fee includes $50 for material costs. \nInstructor:  Jenny Mikulski \n  \nCourtesy The Boutelle-Day Poetry Center at Smith College\n  
URL:https://vabookarts.org/current-classes/collaborate-on-a-folio-of-poetry-broadsides/
LOCATION:Virginia Book Arts\, 600 East Water St.\, Suite F\, Charlottesville\, VA\, 22902\, United States
ATTACH;FMTTYPE=image/jpeg:https://vabookarts.org/wp-content/uploads/2026/04/W.S.-Merwin.jpg
END:VEVENT
BEGIN:VEVENT
DTSTART;TZID=America/New_York:20260815T110000
DTEND;TZID=America/New_York:20260815T150000
DTSTAMP:20260425T105719
CREATED:20260407T130758Z
LAST-MODIFIED:20260420T125514Z
UID:10000037-1786791600-1786806000@vabookarts.org
SUMMARY:Joomchi & Momagami: Asian Paper Manipulation for Book Arts
DESCRIPTION:Joomchi and Momagami are both a traditional Asian paper craft that creates textured handmade paper using your hands and water. This paper art dates back to the tenth century. (A.D. 918-1392). \nThis processing transforms strong\, long-fibered paper\, such as kozo (mulberry) paper\, into a material with a rich\, leather-like texture. The resulting “kneaded paper” is highly resistant to tearing. Explore ways to manipulate strong Korean mulberry Hanji papers\, as the strength of these papers allows for the creation of felted and leather-like appearances robust enough to support stitches\, inclusions\, and appliqué. \nDuring this hands-on workshop\, we will view examples\, learn about the history\, and get your questions answered. You will also receive guidance on creating and adapting Joomchi to your projects. Consider the possibilities as you explore how the instructor has incorporated these techniques into book arts. \nParticipants are invited to bring threads\, small branches\, leaves\, pressed plants and other thin materials they may want to use for inclusion.  The instructor will have a selection of materials to share. Participants can expect to leave with an assortment of sizes and shapes of completed Joomchi and Momagami papers along with ideas for their uses with their personal book arts projects.  All levels of experience welcome. \nAll other materials and supplies are provided. Please bring a bag lunch. \nInstructor:  Catherine Cross Tsintzos \n       \n  \n 
URL:https://vabookarts.org/current-classes/joomchi-momagami-asian-paper-manipulation-for-book-arts/
LOCATION:Virginia Book Arts\, 600 East Water St.\, Suite F\, Charlottesville\, VA\, 22902\, United States
ATTACH;FMTTYPE=image/jpeg:https://vabookarts.org/wp-content/uploads/2026/04/IMG_4439-e1775491246454.jpeg
END:VEVENT
BEGIN:VEVENT
DTSTART;TZID=America/New_York:20260822T110000
DTEND;TZID=America/New_York:20260822T140000
DTSTAMP:20260425T105719
CREATED:20260407T143221Z
LAST-MODIFIED:20260420T125422Z
UID:10000032-1787396400-1787407200@vabookarts.org
SUMMARY:Secret Belgian Binding
DESCRIPTION:Secret Belgian binding (or crisscross binding) features a linear pattern of colored thread crisscrossing over and between the spine and the two covers. This structure holds the cover boards together without glue; signatures are then cleverly stitched into the spine. The result is a sturdy binding which opens completely flat making it perfect for journals\, diaries\, notebooks\, scrapbooks and sketchbooks. Participants will fold signatures and use a jig to create sewing holes. Then\, using fine art paper and book cloth\, participants will cover 3 separate boards (front\, back\, spine)\, sew the boards together\, and sew the signatures into the cover. Participants will learn principles for making the binding in different sizes. \nAll materials and tools are provided. The class fee includes $15 for material costs. Please bring a bag lunch/snack. \nInstructor: Jane Freeman \n 
URL:https://vabookarts.org/current-classes/secret-belgian-binding/
LOCATION:Virginia Book Arts\, 600 East Water St.\, Suite F\, Charlottesville\, VA\, 22902\, United States
ATTACH;FMTTYPE=image/jpeg:https://vabookarts.org/wp-content/uploads/2026/04/IMG_9624-rotated-e1775336622682.jpeg
END:VEVENT
END:VCALENDAR